BEGIN:VCALENDAR
VERSION:2.0
PRODID:-//Nevada Bowhunters Association - ECPv6.15.20//NONSGML v1.0//EN
CALSCALE:GREGORIAN
METHOD:PUBLISH
X-WR-CALNAME:Nevada Bowhunters Association
X-ORIGINAL-URL:https://nevadabowhunters.org
X-WR-CALDESC:Events for Nevada Bowhunters Association
REFRESH-INTERVAL;VALUE=DURATION:PT1H
X-Robots-Tag:noindex
X-PUBLISHED-TTL:PT1H
BEGIN:VTIMEZONE
TZID:America/Los_Angeles
BEGIN:DAYLIGHT
TZOFFSETFROM:-0800
TZOFFSETTO:-0700
TZNAME:PDT
DTSTART:20230312T100000
END:DAYLIGHT
BEGIN:STANDARD
TZOFFSETFROM:-0700
TZOFFSETTO:-0800
TZNAME:PST
DTSTART:20231105T090000
END:STANDARD
BEGIN:DAYLIGHT
TZOFFSETFROM:-0800
TZOFFSETTO:-0700
TZNAME:PDT
DTSTART:20240310T100000
END:DAYLIGHT
BEGIN:STANDARD
TZOFFSETFROM:-0700
TZOFFSETTO:-0800
TZNAME:PST
DTSTART:20241103T090000
END:STANDARD
BEGIN:DAYLIGHT
TZOFFSETFROM:-0800
TZOFFSETTO:-0700
TZNAME:PDT
DTSTART:20250309T100000
END:DAYLIGHT
BEGIN:STANDARD
TZOFFSETFROM:-0700
TZOFFSETTO:-0800
TZNAME:PST
DTSTART:20251102T090000
END:STANDARD
BEGIN:DAYLIGHT
TZOFFSETFROM:-0800
TZOFFSETTO:-0700
TZNAME:PDT
DTSTART:20260308T100000
END:DAYLIGHT
BEGIN:STANDARD
TZOFFSETFROM:-0700
TZOFFSETTO:-0800
TZNAME:PST
DTSTART:20261101T090000
END:STANDARD
END:VTIMEZONE
BEGIN:VTIMEZONE
TZID:UTC
BEGIN:STANDARD
TZOFFSETFROM:+0000
TZOFFSETTO:+0000
TZNAME:UTC
DTSTART:20240101T000000
END:STANDARD
END:VTIMEZONE
BEGIN:VEVENT
DTSTART;TZID=America/Los_Angeles:20251102T080000
DTEND;TZID=America/Los_Angeles:20251102T170000
DTSTAMP:20260419T200015
CREATED:20241205T031252Z
LAST-MODIFIED:20241205T031252Z
UID:706-1762070400-1762102800@nevadabowhunters.org
SUMMARY:Clear Creek Bowmen Turkey Shoot
DESCRIPTION:
URL:https://nevadabowhunters.org/event/clear-creek-bowmen-turkey-shoot/
LOCATION:Clear Creek Bowmen\, centennial Dr\, Carson City\, NV\, 89701\, United States
END:VEVENT
BEGIN:VEVENT
DTSTART;TZID=America/Los_Angeles:20250920T080000
DTEND;TZID=America/Los_Angeles:20250921T170000
DTSTAMP:20260419T200015
CREATED:20241205T033043Z
LAST-MODIFIED:20241205T033043Z
UID:718-1758355200-1758474000@nevadabowhunters.org
SUMMARY:Las Vegas Archers - Safari 3D Shoot
DESCRIPTION:
URL:https://nevadabowhunters.org/event/las-vegas-archers-safari-3d-shoot/
LOCATION:Las Vegas Archers\, Forest road 989\, Las Vegas\, NV\, 89161\, United States
ORGANIZER;CN="Las Vegas Archers":MAILTO:lasvegasarchers@gmail.com
END:VEVENT
BEGIN:VEVENT
DTSTART;TZID=America/Los_Angeles:20250712T080000
DTEND;TZID=America/Los_Angeles:20250713T170000
DTSTAMP:20260419T200015
CREATED:20241122T235904Z
LAST-MODIFIED:20241122T235904Z
UID:664-1752307200-1752426000@nevadabowhunters.org
SUMMARY:Battle Mountain 3D - Best of the West challenge
DESCRIPTION:
URL:https://nevadabowhunters.org/event/battle-mountain-3d-best-of-the-west-challenge/
LOCATION:NV
END:VEVENT
BEGIN:VEVENT
DTSTART;TZID=America/Los_Angeles:20250614T080000
DTEND;TZID=America/Los_Angeles:20250615T170000
DTSTAMP:20260419T200015
CREATED:20241204T043900Z
LAST-MODIFIED:20241218T232847Z
UID:691-1749888000-1750006800@nevadabowhunters.org
SUMMARY:Bristlecone 3D Shoot
DESCRIPTION:
URL:https://nevadabowhunters.org/event/bristlecone-3d-shoot/
LOCATION:Bristlecone – Ely\, Ely\, United States
END:VEVENT
BEGIN:VEVENT
DTSTART;TZID=America/Los_Angeles:20250614T080000
DTEND;TZID=America/Los_Angeles:20250615T170000
DTSTAMP:20260419T200015
CREATED:20241123T003317Z
LAST-MODIFIED:20241218T232857Z
UID:669-1749888000-1750006800@nevadabowhunters.org
SUMMARY:Winnemucca Fathers Day 3D Shoot
DESCRIPTION:
URL:https://nevadabowhunters.org/event/winnemucca-fathers-day-3d-shoot/
LOCATION:Winnemucca
END:VEVENT
BEGIN:VEVENT
DTSTART;TZID=America/Los_Angeles:20250607T080000
DTEND;TZID=America/Los_Angeles:20250608T170000
DTSTAMP:20260419T200015
CREATED:20241123T004126Z
LAST-MODIFIED:20241123T004126Z
UID:675-1749283200-1749402000@nevadabowhunters.org
SUMMARY:Elko Bowhunter Classic
DESCRIPTION:
URL:https://nevadabowhunters.org/event/elko-bowhunter-classic/
LOCATION:NV
END:VEVENT
BEGIN:VEVENT
DTSTART;TZID=America/Los_Angeles:20250517T080000
DTEND;TZID=America/Los_Angeles:20250518T170000
DTSTAMP:20260419T200015
CREATED:20241123T004348Z
LAST-MODIFIED:20241218T232907Z
UID:679-1747468800-1747587600@nevadabowhunters.org
SUMMARY:Fallon R.A.M 3D Shoot
DESCRIPTION:
URL:https://nevadabowhunters.org/event/fallon-r-a-m-3d-shoot-2/
LOCATION:NV
END:VEVENT
BEGIN:VEVENT
DTSTART;TZID=America/Los_Angeles:20250503T080000
DTEND;TZID=America/Los_Angeles:20250504T170000
DTSTAMP:20260419T200015
CREATED:20241123T005505Z
LAST-MODIFIED:20241218T232915Z
UID:685-1746259200-1746378000@nevadabowhunters.org
SUMMARY:Battle Mountain Annual 3D
DESCRIPTION:
URL:https://nevadabowhunters.org/event/battle-mountain-annual-3d/
LOCATION:NV
END:VEVENT
BEGIN:VEVENT
DTSTART;TZID=America/Los_Angeles:20250501T173000
DTEND;TZID=America/Los_Angeles:20250501T183000
DTSTAMP:20260419T200015
CREATED:20230530T174736Z
LAST-MODIFIED:20230530T174736Z
UID:487-1746120600-1746124200@nevadabowhunters.org
SUMMARY:NHBA Board Virtual Meeting
DESCRIPTION:NBHA Board Meeting \nPlease join my meeting from your computer\, tablet or smartphone.https://www.gotomeet.me/fandpconstruction/nbha-board-meeting \nYou can also dial in using your phone.United States: +1 (571) 317-3122 \nAccess Code: 838-063-429
URL:https://nevadabowhunters.org/event/nhba-board-virtual-meeting-24/
LOCATION:NV
ORGANIZER;CN="ot65i61cc22mo6se31qejlr6s8@group.calendar.google.com":MAILTO:ot65i61cc22mo6se31qejlr6s8@group_calendar_google_com
END:VEVENT
BEGIN:VEVENT
DTSTART;TZID=America/Los_Angeles:20250427T080000
DTEND;TZID=America/Los_Angeles:20250427T170000
DTSTAMP:20260419T200015
CREATED:20241205T031126Z
LAST-MODIFIED:20241205T031126Z
UID:704-1745740800-1745773200@nevadabowhunters.org
SUMMARY:Carson Cancer Shoot
DESCRIPTION:
URL:https://nevadabowhunters.org/event/carson-cancer-shoot/
LOCATION:Clear Creek Bowmen\, centennial Dr\, Carson City\, NV\, 89701\, United States
END:VEVENT
BEGIN:VEVENT
DTSTART;TZID=America/Los_Angeles:20250412T080000
DTEND;TZID=America/Los_Angeles:20250413T170000
DTSTAMP:20260419T200015
CREATED:20241205T032858Z
LAST-MODIFIED:20241205T032858Z
UID:715-1744444800-1744563600@nevadabowhunters.org
SUMMARY:Silver Dollar Shoot
DESCRIPTION:
URL:https://nevadabowhunters.org/event/silver-dollar-shoot/
LOCATION:Las Vegas Archers\, Forest road 989\, Las Vegas\, NV\, 89161\, United States
ORGANIZER;CN="Las Vegas Archers":MAILTO:lasvegasarchers@gmail.com
END:VEVENT
BEGIN:VEVENT
DTSTART;TZID=America/Los_Angeles:20250412T080000
DTEND;TZID=America/Los_Angeles:20250413T170000
DTSTAMP:20260419T200015
CREATED:20241122T230859Z
LAST-MODIFIED:20241122T234247Z
UID:637-1744444800-1744563600@nevadabowhunters.org
SUMMARY:Walker River Rendezvous
DESCRIPTION:
URL:https://nevadabowhunters.org/event/winnemucca-indoor-3d-challenge/
LOCATION:NV
END:VEVENT
BEGIN:VEVENT
DTSTART;TZID=America/Los_Angeles:20250405T080000
DTEND;TZID=America/Los_Angeles:20250406T170000
DTSTAMP:20260419T200015
CREATED:20241123T004238Z
LAST-MODIFIED:20241123T004238Z
UID:677-1743840000-1743958800@nevadabowhunters.org
SUMMARY:Fallon 3C Indoor 3D shootout
DESCRIPTION:
URL:https://nevadabowhunters.org/event/fallon-3c-indoor-3d-shootout/
LOCATION:3C arena
END:VEVENT
BEGIN:VEVENT
DTSTART;TZID=America/Los_Angeles:20250403T173000
DTEND;TZID=America/Los_Angeles:20250403T183000
DTSTAMP:20260419T200015
CREATED:20230530T174736Z
LAST-MODIFIED:20230530T174736Z
UID:486-1743701400-1743705000@nevadabowhunters.org
SUMMARY:NHBA Board Virtual Meeting
DESCRIPTION:NBHA Board Meeting \nPlease join my meeting from your computer\, tablet or smartphone.https://www.gotomeet.me/fandpconstruction/nbha-board-meeting \nYou can also dial in using your phone.United States: +1 (571) 317-3122 \nAccess Code: 838-063-429
URL:https://nevadabowhunters.org/event/nhba-board-virtual-meeting-23/
LOCATION:NV
ORGANIZER;CN="ot65i61cc22mo6se31qejlr6s8@group.calendar.google.com":MAILTO:ot65i61cc22mo6se31qejlr6s8@group_calendar_google_com
END:VEVENT
BEGIN:VEVENT
DTSTART;TZID=America/Los_Angeles:20250330T080000
DTEND;TZID=America/Los_Angeles:20250330T170000
DTSTAMP:20260419T200015
CREATED:20241205T030943Z
LAST-MODIFIED:20241205T030943Z
UID:699-1743321600-1743354000@nevadabowhunters.org
SUMMARY:Hell or High Water
DESCRIPTION:
URL:https://nevadabowhunters.org/event/hell-or-high-water/
LOCATION:Clear Creek Bowmen\, centennial Dr\, Carson City\, NV\, 89701\, United States
END:VEVENT
BEGIN:VEVENT
DTSTART;TZID=America/Los_Angeles:20250328T080000
DTEND;TZID=America/Los_Angeles:20250330T170000
DTSTAMP:20260419T200015
CREATED:20241123T004943Z
LAST-MODIFIED:20250303T024237Z
UID:683-1743148800-1743354000@nevadabowhunters.org
SUMMARY:Winnemucca Indoor 3D championship
DESCRIPTION:
URL:https://nevadabowhunters.org/event/winnemucca-indoor-3d-championship/
LOCATION:NV
END:VEVENT
BEGIN:VEVENT
DTSTART;TZID=America/Los_Angeles:20250306T173000
DTEND;TZID=America/Los_Angeles:20250306T183000
DTSTAMP:20260419T200015
CREATED:20230530T174736Z
LAST-MODIFIED:20230530T174736Z
UID:485-1741282200-1741285800@nevadabowhunters.org
SUMMARY:NHBA Board Virtual Meeting
DESCRIPTION:NBHA Board Meeting \nPlease join my meeting from your computer\, tablet or smartphone.https://www.gotomeet.me/fandpconstruction/nbha-board-meeting \nYou can also dial in using your phone.United States: +1 (571) 317-3122 \nAccess Code: 838-063-429
URL:https://nevadabowhunters.org/event/nhba-board-virtual-meeting-22/
LOCATION:NV
ORGANIZER;CN="ot65i61cc22mo6se31qejlr6s8@group.calendar.google.com":MAILTO:ot65i61cc22mo6se31qejlr6s8@group_calendar_google_com
END:VEVENT
BEGIN:VEVENT
DTSTART;TZID=America/Los_Angeles:20250223T080000
DTEND;TZID=America/Los_Angeles:20250223T170000
DTSTAMP:20260419T200015
CREATED:20241205T032426Z
LAST-MODIFIED:20241205T032426Z
UID:712-1740297600-1740330000@nevadabowhunters.org
SUMMARY:Indoor Vegas 300 - Aces&Arrows - Las Vegas
DESCRIPTION:
URL:https://nevadabowhunters.org/event/indoor-vegas-300-acesarrows-las-vegas/
LOCATION:Aces & Arrows\, 980 American Pacific Dr #107\, Henderson\, NV\, NV\, 89014\, United States
ORGANIZER;CN="Las Vegas Archers":MAILTO:lasvegasarchers@gmail.com
END:VEVENT
BEGIN:VEVENT
DTSTART;TZID=America/Los_Angeles:20250206T173000
DTEND;TZID=America/Los_Angeles:20250206T183000
DTSTAMP:20260419T200015
CREATED:20230530T174736Z
LAST-MODIFIED:20230530T174736Z
UID:484-1738863000-1738866600@nevadabowhunters.org
SUMMARY:NHBA Board Virtual Meeting
DESCRIPTION:NBHA Board Meeting \nPlease join my meeting from your computer\, tablet or smartphone.https://www.gotomeet.me/fandpconstruction/nbha-board-meeting \nYou can also dial in using your phone.United States: +1 (571) 317-3122 \nAccess Code: 838-063-429
URL:https://nevadabowhunters.org/event/nhba-board-virtual-meeting-21/
LOCATION:NV
ORGANIZER;CN="ot65i61cc22mo6se31qejlr6s8@group.calendar.google.com":MAILTO:ot65i61cc22mo6se31qejlr6s8@group_calendar_google_com
END:VEVENT
BEGIN:VEVENT
DTSTART;TZID=America/Los_Angeles:20250202T080000
DTEND;TZID=America/Los_Angeles:20250202T170000
DTSTAMP:20260419T200015
CREATED:20241205T031947Z
LAST-MODIFIED:20241205T031947Z
UID:709-1738483200-1738515600@nevadabowhunters.org
SUMMARY:Indoor Vegas 300 - Bass Pro Shop-Las Vegas
DESCRIPTION:
URL:https://nevadabowhunters.org/event/indoor-vegas-300-bass-pro-shop-las-vegas/
LOCATION:NV
ORGANIZER;CN="Las Vegas Archers":MAILTO:lasvegasarchers@gmail.com
END:VEVENT
BEGIN:VEVENT
DTSTART;TZID=America/Los_Angeles:20250201T080000
DTEND;TZID=America/Los_Angeles:20250202T170000
DTSTAMP:20260419T200015
CREATED:20241123T004029Z
LAST-MODIFIED:20241123T004029Z
UID:673-1738396800-1738515600@nevadabowhunters.org
SUMMARY:Elko Indoor 3D Safari
DESCRIPTION:
URL:https://nevadabowhunters.org/event/elko-indoor-3d-safari/
LOCATION:NV
END:VEVENT
BEGIN:VEVENT
DTSTART;TZID=America/Los_Angeles:20250119T100000
DTEND;TZID=America/Los_Angeles:20250119T170000
DTSTAMP:20260419T200015
CREATED:20241204T044353Z
LAST-MODIFIED:20241205T031537Z
UID:695-1737280800-1737306000@nevadabowhunters.org
SUMMARY:Indoor Vegas 300 - Impact Archery
DESCRIPTION:
URL:https://nevadabowhunters.org/event/vegas-indoor-300/
LOCATION:Impact Archery\, 6323 Dean Martin Dr\, Las Vegas\, NV\, 89118\, United States
END:VEVENT
BEGIN:VEVENT
DTSTART;TZID=America/Los_Angeles:20250111T080000
DTEND;TZID=America/Los_Angeles:20250112T170000
DTSTAMP:20260419T200015
CREATED:20241123T002946Z
LAST-MODIFIED:20241123T004730Z
UID:666-1736582400-1736701200@nevadabowhunters.org
SUMMARY:Winnemucca Indoor 450 shootout
DESCRIPTION:
URL:https://nevadabowhunters.org/event/winnemucca-indoor-3d-shoot/
LOCATION:Winnemucca fargrounds
END:VEVENT
BEGIN:VEVENT
DTSTART;TZID=America/Los_Angeles:20250102T173000
DTEND;TZID=America/Los_Angeles:20250102T183000
DTSTAMP:20260419T200015
CREATED:20230530T174736Z
LAST-MODIFIED:20230530T174736Z
UID:483-1735839000-1735842600@nevadabowhunters.org
SUMMARY:NHBA Board Virtual Meeting
DESCRIPTION:NBHA Board Meeting \nPlease join my meeting from your computer\, tablet or smartphone.https://www.gotomeet.me/fandpconstruction/nbha-board-meeting \nYou can also dial in using your phone.United States: +1 (571) 317-3122 \nAccess Code: 838-063-429
URL:https://nevadabowhunters.org/event/nhba-board-virtual-meeting-20/
LOCATION:NV
ORGANIZER;CN="ot65i61cc22mo6se31qejlr6s8@group.calendar.google.com":MAILTO:ot65i61cc22mo6se31qejlr6s8@group_calendar_google_com
END:VEVENT
BEGIN:VEVENT
DTSTART;TZID=UTC:20250101T000000
DTEND;TZID=UTC:20250118T150000
DTSTAMP:20260419T200015
CREATED:20230530T174732Z
LAST-MODIFIED:20250110T201858Z
UID:464-1735689600-1737212400@nevadabowhunters.org
SUMMARY:BOW RAFFLE - Fully set-up 2024 Matthews Lift
DESCRIPTION:2024 Matthews LIFT with SpottHogg Fast Eddie slider sight\, QAD integrated R2 rest\, Matching Flatline Matthews stabilizer\, Matthews integrated stand. click below to purchase raffle tickets. 1 for $20\, 6 for $100. \nPurchase Raffle Tickets \nBow will be raffled off at Reno Sheep Show @ NBHA booth #587 on January 18th.
URL:https://nevadabowhunters.org/event/bow-raffle-2024matthewslift/
LOCATION:NV
ORGANIZER;CN="ot65i61cc22mo6se31qejlr6s8@group.calendar.google.com":MAILTO:ot65i61cc22mo6se31qejlr6s8@group_calendar_google_com
END:VEVENT
BEGIN:VEVENT
DTSTART;TZID=America/Los_Angeles:20241205T173000
DTEND;TZID=America/Los_Angeles:20241205T183000
DTSTAMP:20260419T200015
CREATED:20230530T174736Z
LAST-MODIFIED:20230530T174736Z
UID:482-1733419800-1733423400@nevadabowhunters.org
SUMMARY:NHBA Board Virtual Meeting
DESCRIPTION:NBHA Board Meeting \nPlease join my meeting from your computer\, tablet or smartphone.https://www.gotomeet.me/fandpconstruction/nbha-board-meeting \nYou can also dial in using your phone.United States: +1 (571) 317-3122 \nAccess Code: 838-063-429
URL:https://nevadabowhunters.org/event/nhba-board-virtual-meeting-19/
LOCATION:NV
ORGANIZER;CN="ot65i61cc22mo6se31qejlr6s8@group.calendar.google.com":MAILTO:ot65i61cc22mo6se31qejlr6s8@group_calendar_google_com
END:VEVENT
BEGIN:VEVENT
DTSTART;TZID=America/Los_Angeles:20241107T173000
DTEND;TZID=America/Los_Angeles:20241107T183000
DTSTAMP:20260419T200015
CREATED:20230530T174736Z
LAST-MODIFIED:20230530T174736Z
UID:481-1731000600-1731004200@nevadabowhunters.org
SUMMARY:NHBA Board Virtual Meeting
DESCRIPTION:NBHA Board Meeting \nPlease join my meeting from your computer\, tablet or smartphone.https://www.gotomeet.me/fandpconstruction/nbha-board-meeting \nYou can also dial in using your phone.United States: +1 (571) 317-3122 \nAccess Code: 838-063-429
URL:https://nevadabowhunters.org/event/nhba-board-virtual-meeting-18/
LOCATION:NV
ORGANIZER;CN="ot65i61cc22mo6se31qejlr6s8@group.calendar.google.com":MAILTO:ot65i61cc22mo6se31qejlr6s8@group_calendar_google_com
END:VEVENT
BEGIN:VEVENT
DTSTART;TZID=America/Los_Angeles:20241003T173000
DTEND;TZID=America/Los_Angeles:20241003T183000
DTSTAMP:20260419T200015
CREATED:20230530T174735Z
LAST-MODIFIED:20230530T174735Z
UID:480-1727976600-1727980200@nevadabowhunters.org
SUMMARY:NHBA Board Virtual Meeting
DESCRIPTION:NBHA Board Meeting \nPlease join my meeting from your computer\, tablet or smartphone.https://www.gotomeet.me/fandpconstruction/nbha-board-meeting \nYou can also dial in using your phone.United States: +1 (571) 317-3122 \nAccess Code: 838-063-429
URL:https://nevadabowhunters.org/event/nhba-board-virtual-meeting-17/
LOCATION:NV
ORGANIZER;CN="ot65i61cc22mo6se31qejlr6s8@group.calendar.google.com":MAILTO:ot65i61cc22mo6se31qejlr6s8@group_calendar_google_com
END:VEVENT
BEGIN:VEVENT
DTSTART;TZID=America/Los_Angeles:20240905T173000
DTEND;TZID=America/Los_Angeles:20240905T183000
DTSTAMP:20260419T200015
CREATED:20230530T174735Z
LAST-MODIFIED:20230530T174735Z
UID:479-1725557400-1725561000@nevadabowhunters.org
SUMMARY:NHBA Board Virtual Meeting
DESCRIPTION:NBHA Board Meeting \nPlease join my meeting from your computer\, tablet or smartphone.https://www.gotomeet.me/fandpconstruction/nbha-board-meeting \nYou can also dial in using your phone.United States: +1 (571) 317-3122 \nAccess Code: 838-063-429
URL:https://nevadabowhunters.org/event/nhba-board-virtual-meeting-16/
LOCATION:NV
ORGANIZER;CN="ot65i61cc22mo6se31qejlr6s8@group.calendar.google.com":MAILTO:ot65i61cc22mo6se31qejlr6s8@group_calendar_google_com
END:VEVENT
BEGIN:VEVENT
DTSTART;TZID=America/Los_Angeles:20240801T173000
DTEND;TZID=America/Los_Angeles:20240801T183000
DTSTAMP:20260419T200015
CREATED:20230530T174735Z
LAST-MODIFIED:20230530T174735Z
UID:478-1722533400-1722537000@nevadabowhunters.org
SUMMARY:NHBA Board Virtual Meeting
DESCRIPTION:NBHA Board Meeting \nPlease join my meeting from your computer\, tablet or smartphone.https://www.gotomeet.me/fandpconstruction/nbha-board-meeting \nYou can also dial in using your phone.United States: +1 (571) 317-3122 \nAccess Code: 838-063-429
URL:https://nevadabowhunters.org/event/nhba-board-virtual-meeting-15/
LOCATION:NV
ORGANIZER;CN="ot65i61cc22mo6se31qejlr6s8@group.calendar.google.com":MAILTO:ot65i61cc22mo6se31qejlr6s8@group_calendar_google_com
END:VEVENT
END:VCALENDAR