BEGIN:VCALENDAR
VERSION:2.0
PRODID:-//Nevada Bowhunters Association - ECPv6.15.20//NONSGML v1.0//EN
CALSCALE:GREGORIAN
METHOD:PUBLISH
X-WR-CALNAME:Nevada Bowhunters Association
X-ORIGINAL-URL:https://nevadabowhunters.org
X-WR-CALDESC:Events for Nevada Bowhunters Association
REFRESH-INTERVAL;VALUE=DURATION:PT1H
X-Robots-Tag:noindex
X-PUBLISHED-TTL:PT1H
BEGIN:VTIMEZONE
TZID:UTC
BEGIN:STANDARD
TZOFFSETFROM:+0000
TZOFFSETTO:+0000
TZNAME:UTC
DTSTART:20240101T000000
END:STANDARD
END:VTIMEZONE
BEGIN:VTIMEZONE
TZID:America/Los_Angeles
BEGIN:DAYLIGHT
TZOFFSETFROM:-0800
TZOFFSETTO:-0700
TZNAME:PDT
DTSTART:20240310T100000
END:DAYLIGHT
BEGIN:STANDARD
TZOFFSETFROM:-0700
TZOFFSETTO:-0800
TZNAME:PST
DTSTART:20241103T090000
END:STANDARD
BEGIN:DAYLIGHT
TZOFFSETFROM:-0800
TZOFFSETTO:-0700
TZNAME:PDT
DTSTART:20250309T100000
END:DAYLIGHT
BEGIN:STANDARD
TZOFFSETFROM:-0700
TZOFFSETTO:-0800
TZNAME:PST
DTSTART:20251102T090000
END:STANDARD
BEGIN:DAYLIGHT
TZOFFSETFROM:-0800
TZOFFSETTO:-0700
TZNAME:PDT
DTSTART:20260308T100000
END:DAYLIGHT
BEGIN:STANDARD
TZOFFSETFROM:-0700
TZOFFSETTO:-0800
TZNAME:PST
DTSTART:20261101T090000
END:STANDARD
END:VTIMEZONE
BEGIN:VEVENT
DTSTART;TZID=UTC:20250101T000000
DTEND;TZID=UTC:20250118T150000
DTSTAMP:20260422T001008
CREATED:20230530T174732Z
LAST-MODIFIED:20250110T201858Z
UID:464-1735689600-1737212400@nevadabowhunters.org
SUMMARY:BOW RAFFLE - Fully set-up 2024 Matthews Lift
DESCRIPTION:2024 Matthews LIFT with SpottHogg Fast Eddie slider sight\, QAD integrated R2 rest\, Matching Flatline Matthews stabilizer\, Matthews integrated stand. click below to purchase raffle tickets. 1 for $20\, 6 for $100. \nPurchase Raffle Tickets \nBow will be raffled off at Reno Sheep Show @ NBHA booth #587 on January 18th.
URL:https://nevadabowhunters.org/event/bow-raffle-2024matthewslift/
LOCATION:NV
ORGANIZER;CN="ot65i61cc22mo6se31qejlr6s8@group.calendar.google.com":MAILTO:ot65i61cc22mo6se31qejlr6s8@group_calendar_google_com
END:VEVENT
BEGIN:VEVENT
DTSTART;TZID=America/Los_Angeles:20250111T080000
DTEND;TZID=America/Los_Angeles:20250112T170000
DTSTAMP:20260422T001008
CREATED:20241123T002946Z
LAST-MODIFIED:20241123T004730Z
UID:666-1736582400-1736701200@nevadabowhunters.org
SUMMARY:Winnemucca Indoor 450 shootout
DESCRIPTION:
URL:https://nevadabowhunters.org/event/winnemucca-indoor-3d-shoot/
LOCATION:Winnemucca fargrounds
END:VEVENT
END:VCALENDAR